BEGIN:VCALENDAR
VERSION:2.0
PRODID:-//Liedertafel Au - ECPv6.15.20//NONSGML v1.0//EN
CALSCALE:GREGORIAN
METHOD:PUBLISH
X-WR-CALNAME:Liedertafel Au
X-ORIGINAL-URL:https://liedertafel-au.de
X-WR-CALDESC:Veranstaltungen für Liedertafel Au
REFRESH-INTERVAL;VALUE=DURATION:PT1H
X-Robots-Tag:noindex
X-PUBLISHED-TTL:PT1H
BEGIN:VTIMEZONE
TZID:Europe/Berlin
BEGIN:DAYLIGHT
TZOFFSETFROM:+0100
TZOFFSETTO:+0200
TZNAME:CEST
DTSTART:20250330T010000
END:DAYLIGHT
BEGIN:STANDARD
TZOFFSETFROM:+0200
TZOFFSETTO:+0100
TZNAME:CET
DTSTART:20251026T010000
END:STANDARD
BEGIN:DAYLIGHT
TZOFFSETFROM:+0100
TZOFFSETTO:+0200
TZNAME:CEST
DTSTART:20260329T010000
END:DAYLIGHT
BEGIN:STANDARD
TZOFFSETFROM:+0200
TZOFFSETTO:+0100
TZNAME:CET
DTSTART:20261025T010000
END:STANDARD
BEGIN:DAYLIGHT
TZOFFSETFROM:+0100
TZOFFSETTO:+0200
TZNAME:CEST
DTSTART:20270328T010000
END:DAYLIGHT
BEGIN:STANDARD
TZOFFSETFROM:+0200
TZOFFSETTO:+0100
TZNAME:CET
DTSTART:20271031T010000
END:STANDARD
END:VTIMEZONE
BEGIN:VEVENT
DTSTART;TZID=Europe/Berlin:20261108T093000
DTEND;TZID=Europe/Berlin:20261108T110000
DTSTAMP:20260421T040803
CREATED:20260313T160642Z
LAST-MODIFIED:20260313T160838Z
UID:1427-1794130200-1794135600@liedertafel-au.de
SUMMARY:Jahresgedächtnismesse
DESCRIPTION:
URL:https://liedertafel-au.de/event/jahresgedaechtnismesse-2/
LOCATION:Kirche St. Vitus\, Au
END:VEVENT
BEGIN:VEVENT
DTSTART;TZID=Europe/Berlin:20261115T093000
DTEND;TZID=Europe/Berlin:20261115T110000
DTSTAMP:20260421T040803
CREATED:20260313T160735Z
LAST-MODIFIED:20260313T160735Z
UID:1430-1794735000-1794740400@liedertafel-au.de
SUMMARY:Volkstrauertag
DESCRIPTION:
URL:https://liedertafel-au.de/event/volkstrauertag/
LOCATION:Kirche St. Vitus\, Au
END:VEVENT
END:VCALENDAR