BEGIN:VCALENDAR
VERSION:2.0
PRODID:-//Liedertafel Au - ECPv6.15.20//NONSGML v1.0//EN
CALSCALE:GREGORIAN
METHOD:PUBLISH
X-ORIGINAL-URL:https://liedertafel-au.de
X-WR-CALDESC:Veranstaltungen für Liedertafel Au
REFRESH-INTERVAL;VALUE=DURATION:PT1H
X-Robots-Tag:noindex
X-PUBLISHED-TTL:PT1H
BEGIN:VTIMEZONE
TZID:Europe/Berlin
BEGIN:DAYLIGHT
TZOFFSETFROM:+0100
TZOFFSETTO:+0200
TZNAME:CEST
DTSTART:20250330T010000
END:DAYLIGHT
BEGIN:STANDARD
TZOFFSETFROM:+0200
TZOFFSETTO:+0100
TZNAME:CET
DTSTART:20251026T010000
END:STANDARD
BEGIN:DAYLIGHT
TZOFFSETFROM:+0100
TZOFFSETTO:+0200
TZNAME:CEST
DTSTART:20260329T010000
END:DAYLIGHT
BEGIN:STANDARD
TZOFFSETFROM:+0200
TZOFFSETTO:+0100
TZNAME:CET
DTSTART:20261025T010000
END:STANDARD
BEGIN:DAYLIGHT
TZOFFSETFROM:+0100
TZOFFSETTO:+0200
TZNAME:CEST
DTSTART:20270328T010000
END:DAYLIGHT
BEGIN:STANDARD
TZOFFSETFROM:+0200
TZOFFSETTO:+0100
TZNAME:CET
DTSTART:20271031T010000
END:STANDARD
END:VTIMEZONE
BEGIN:VEVENT
DTSTART;TZID=Europe/Berlin:20260912T090000
DTEND;TZID=Europe/Berlin:20260912T140000
DTSTAMP:20260420T064446
CREATED:20251114T104410Z
LAST-MODIFIED:20260222T151527Z
UID:1358-1789203600-1789221600@liedertafel-au.de
SUMMARY:Probensamstag
DESCRIPTION:
URL:https://liedertafel-au.de/event/probensamstag/
LOCATION:Aula der Grundschule Au\, Jahnstr. 3\, Au i.d. Hallertau
END:VEVENT
BEGIN:VEVENT
DTSTART;TZID=Europe/Berlin:20260912T153000
DTEND;TZID=Europe/Berlin:20260912T180000
DTSTAMP:20260420T064446
CREATED:20251114T104542Z
LAST-MODIFIED:20260222T151603Z
UID:1360-1789227000-1789236000@liedertafel-au.de
SUMMARY:Konzert Kursana
DESCRIPTION:
URL:https://liedertafel-au.de/event/konzert-kursana/
LOCATION:Seniorenheim Kursana\, Au
END:VEVENT
BEGIN:VEVENT
DTSTART;TZID=Europe/Berlin:20260926T130000
DTEND;TZID=Europe/Berlin:20260926T140000
DTSTAMP:20260420T064446
CREATED:20260222T151824Z
LAST-MODIFIED:20260222T151824Z
UID:1414-1790427600-1790431200@liedertafel-au.de
SUMMARY:Aufbau Bühne
DESCRIPTION:
URL:https://liedertafel-au.de/event/aufbau-buehne/
LOCATION:Hopfenlandhalle Au i.d. Hallertau\, Josef-Eberwein-Str.\, Au i.d. Hallertau\, 84072
END:VEVENT
BEGIN:VEVENT
DTSTART;TZID=Europe/Berlin:20260926T140000
DTEND;TZID=Europe/Berlin:20260926T170000
DTSTAMP:20260420T064446
CREATED:20251114T104709Z
LAST-MODIFIED:20260222T151958Z
UID:1364-1790431200-1790442000@liedertafel-au.de
SUMMARY:Generalprobe
DESCRIPTION:
URL:https://liedertafel-au.de/event/generalprobe/
LOCATION:Hopfenlandhalle Au i.d. Hallertau\, Josef-Eberwein-Str.\, Au i.d. Hallertau\, 84072
END:VEVENT
BEGIN:VEVENT
DTSTART;TZID=Europe/Berlin:20260927T170000
DTEND;TZID=Europe/Berlin:20260927T190000
DTSTAMP:20260420T064446
CREATED:20251114T104807Z
LAST-MODIFIED:20260222T152054Z
UID:1366-1790528400-1790535600@liedertafel-au.de
SUMMARY:Konzert
DESCRIPTION:
URL:https://liedertafel-au.de/event/konzert/
LOCATION:Hopfenlandhalle Au i.d. Hallertau\, Josef-Eberwein-Str.\, Au i.d. Hallertau\, 84072
END:VEVENT
END:VCALENDAR